Package: DAPAR Version: 1.36.3 Command: /home/biocbuild/bbs-3.19-bioc/R/bin/R CMD INSTALL DAPAR StartedAt: 2024-10-16 16:26:38 -0400 (Wed, 16 Oct 2024) EndedAt: 2024-10-16 16:27:16 -0400 (Wed, 16 Oct 2024) EllapsedTime: 38.3 seconds RetCode: 0 Status: OK