Package: DART Version: 1.52.0 Command: /home/biocbuild/bbs-3.19-bioc/R/bin/R CMD build --keep-empty-dirs --no-resave-data DART StartedAt: 2024-10-16 18:05:04 -0400 (Wed, 16 Oct 2024) EndedAt: 2024-10-16 18:05:24 -0400 (Wed, 16 Oct 2024) EllapsedTime: 20.0 seconds RetCode: 0 Status: OK PackageFile: DART_1.52.0.tar.gz PackageFileSize: 1.988 MiB