Package: DART Version: 1.52.0 Command: F:\biocbuild\bbs-3.19-bioc\R\bin\R.exe CMD check --no-multiarch --install=check:DART.install-out.txt --library=F:\biocbuild\bbs-3.19-bioc\R\library --no-vignettes --timings DART_1.52.0.tar.gz StartedAt: 2024-06-27 00:43:55 -0400 (Thu, 27 Jun 2024) EndedAt: 2024-06-27 00:44:46 -0400 (Thu, 27 Jun 2024) EllapsedTime: 51.0 seconds RetCode: 0 Status: OK CheckDir: DART.Rcheck Warnings: 0