Package: DART Version: 1.52.0 Command: F:\biocbuild\bbs-3.19-bioc\R\bin\R.exe CMD INSTALL DART StartedAt: 2024-06-26 15:41:31 -0400 (Wed, 26 Jun 2024) EndedAt: 2024-06-26 15:41:50 -0400 (Wed, 26 Jun 2024) EllapsedTime: 19.6 seconds RetCode: 0 Status: OK