Package: DART Version: 1.52.0 Command: rm -rf DART.buildbin-libdir && mkdir DART.buildbin-libdir && E:\biocbuild\bbs-3.19-bioc\R\bin\R.exe CMD INSTALL --build --library=DART.buildbin-libdir DART_1.52.0.tar.gz StartedAt: 2024-10-17 07:38:40 -0400 (Thu, 17 Oct 2024) EndedAt: 2024-10-17 07:38:50 -0400 (Thu, 17 Oct 2024) EllapsedTime: 10.1 seconds RetCode: 0 Status: OK PackageFile: DART_1.52.0.zip PackageFileSize: 2.031 MiB