Package: DART Version: 1.52.0 Command: chmod a+r DART -R && E:\biocbuild\bbs-3.19-bioc\R\bin\R.exe CMD build --keep-empty-dirs --no-resave-data DART StartedAt: 2024-10-16 18:32:13 -0400 (Wed, 16 Oct 2024) EndedAt: 2024-10-16 18:32:45 -0400 (Wed, 16 Oct 2024) EllapsedTime: 31.9 seconds RetCode: 0 Status: OK PackageFile: DART_1.52.0.tar.gz PackageFileSize: 1.989 MiB