Package: DECIPHER Version: 3.0.0 Command: /Library/Frameworks/R.framework/Resources/bin/R CMD build --keep-empty-dirs --no-resave-data DECIPHER StartedAt: 2024-10-16 22:45:52 -0400 (Wed, 16 Oct 2024) EndedAt: 2024-10-16 23:04:32 -0400 (Wed, 16 Oct 2024) EllapsedTime: 1120.3 seconds RetCode: 0 Status: OK PackageFile: DECIPHER_3.0.0.tar.gz PackageFileSize: 18.95 MiB