Package: DECIPHER Version: 3.0.0 Command: /Library/Frameworks/R.framework/Resources/bin/R CMD build --keep-empty-dirs --no-resave-data DECIPHER StartedAt: 2024-06-09 20:18:47 -0400 (Sun, 09 Jun 2024) EndedAt: 2024-06-09 20:35:11 -0400 (Sun, 09 Jun 2024) EllapsedTime: 984.5 seconds RetCode: 0 Status: OK PackageFile: DECIPHER_3.0.0.tar.gz PackageFileSize: 18.97 MiB