Package: DECIPHER Version: 3.0.0 Command: /home/biocbuild/R/R-beta-2024-04-15_r86425/bin/R CMD INSTALL DECIPHER StartedAt: 2024-05-08 20:14:15 -0000 (Wed, 08 May 2024) EndedAt: 2024-05-08 20:15:40 -0000 (Wed, 08 May 2024) EllapsedTime: 85.0 seconds RetCode: 0 Status: OK