Package: DECIPHER Version: 3.0.0 Command: rm -rf DECIPHER.buildbin-libdir && mkdir DECIPHER.buildbin-libdir && /Users/biocbuild/BBS/utils/build-universal.sh DECIPHER_3.0.0.tar.gz /Library/Frameworks/R.framework/Resources/bin/R DECIPHER.buildbin-libdir StartedAt: 2024-06-10 00:14:23 -0400 (Mon, 10 Jun 2024) EndedAt: 2024-06-10 00:15:43 -0400 (Mon, 10 Jun 2024) EllapsedTime: 80.0 seconds RetCode: 0 Status: OK PackageFile: DECIPHER_3.0.0.tgz PackageFileSize: 17.13 MiB