Package: DECIPHER Version: 3.0.0 Command: /Library/Frameworks/R.framework/Resources/bin/R CMD check --install=check:DECIPHER.install-out.txt --library=/Library/Frameworks/R.framework/Resources/library --no-vignettes --timings DECIPHER_3.0.0.tar.gz StartedAt: 2024-06-09 19:51:18 -0400 (Sun, 09 Jun 2024) EndedAt: 2024-06-09 20:08:23 -0400 (Sun, 09 Jun 2024) EllapsedTime: 1025.4 seconds RetCode: 0 Status: OK CheckDir: DECIPHER.Rcheck Warnings: 0