Package: DECIPHER Version: 3.0.0 Command: rm -rf DECIPHER.buildbin-libdir && mkdir DECIPHER.buildbin-libdir && /Users/biocbuild/BBS/utils/build-universal.sh DECIPHER_3.0.0.tar.gz /Library/Frameworks/R.framework/Resources/bin/R DECIPHER.buildbin-libdir StartedAt: 2024-10-17 15:59:08 -0400 (Thu, 17 Oct 2024) EndedAt: 2024-10-17 16:01:38 -0400 (Thu, 17 Oct 2024) EllapsedTime: 149.6 seconds RetCode: 0 Status: OK PackageFile: DECIPHER_3.0.0.tgz PackageFileSize: 17.14 MiB