Package: DEFormats Version: 1.32.0 Command: rm -rf DEFormats.buildbin-libdir && mkdir DEFormats.buildbin-libdir && /Users/biocbuild/BBS/utils/build-universal.sh DEFormats_1.32.0.tar.gz /Library/Frameworks/R.framework/Resources/bin/R DEFormats.buildbin-libdir StartedAt: 2024-10-17 15:59:36 -0400 (Thu, 17 Oct 2024) EndedAt: 2024-10-17 16:00:40 -0400 (Thu, 17 Oct 2024) EllapsedTime: 63.8 seconds RetCode: 0 Status: OK PackageFile: DEFormats_1.32.0.tgz PackageFileSize: 483 KiB