Package: DEGraph Version: 1.56.0 Command: /home/biocbuild/R/R-beta-2024-04-15_r86425/bin/R CMD build --keep-empty-dirs --no-resave-data DEGraph StartedAt: 2024-05-08 23:46:50 -0000 (Wed, 08 May 2024) EndedAt: 2024-05-08 23:47:20 -0000 (Wed, 08 May 2024) EllapsedTime: 30.0 seconds RetCode: 0 Status: OK PackageFile: DEGraph_1.56.0.tar.gz PackageFileSize: 1.528 MiB