Package: DEGseq Version: 1.58.0 Command: rm -rf DEGseq.buildbin-libdir && mkdir DEGseq.buildbin-libdir && /Users/biocbuild/BBS/utils/build-universal.sh DEGseq_1.58.0.tar.gz /Library/Frameworks/R.framework/Resources/bin/R DEGseq.buildbin-libdir StartedAt: 2024-06-10 00:14:34 -0400 (Mon, 10 Jun 2024) EndedAt: 2024-06-10 00:14:53 -0400 (Mon, 10 Jun 2024) EllapsedTime: 19.0 seconds RetCode: 0 Status: OK PackageFile: DEGseq_1.58.0.tgz PackageFileSize: 2.249 MiB