Package: DEGseq Version: 1.58.0 Command: rm -rf DEGseq.buildbin-libdir && mkdir DEGseq.buildbin-libdir && /Users/biocbuild/BBS/utils/build-universal.sh DEGseq_1.58.0.tar.gz /Library/Frameworks/R.framework/Resources/bin/R DEGseq.buildbin-libdir StartedAt: 2024-10-17 15:59:42 -0400 (Thu, 17 Oct 2024) EndedAt: 2024-10-17 16:00:15 -0400 (Thu, 17 Oct 2024) EllapsedTime: 33.2 seconds RetCode: 0 Status: OK PackageFile: DEGseq_1.58.0.tgz PackageFileSize: 2.25 MiB