Package: DEGseq Version: 1.58.0 Command: E:\biocbuild\bbs-3.19-bioc\R\bin\R.exe CMD INSTALL DEGseq StartedAt: 2024-10-16 16:10:29 -0400 (Wed, 16 Oct 2024) EndedAt: 2024-10-16 16:11:08 -0400 (Wed, 16 Oct 2024) EllapsedTime: 38.9 seconds RetCode: 0 Status: OK