Package: DELocal Version: 1.4.0 Command: rm -rf DELocal.buildbin-libdir && mkdir DELocal.buildbin-libdir && /Users/biocbuild/BBS/utils/build-universal.sh DELocal_1.4.0.tar.gz /Library/Frameworks/R.framework/Resources/bin/R DELocal.buildbin-libdir StartedAt: 2024-10-18 18:08:35 -0400 (Fri, 18 Oct 2024) EndedAt: 2024-10-18 18:09:11 -0400 (Fri, 18 Oct 2024) EllapsedTime: 36.1 seconds RetCode: 0 Status: OK PackageFile: DELocal_1.4.0.tgz PackageFileSize: 2.374 MiB