Package: DELocal Version: 1.4.0 Command: /home/biocbuild/R/R-beta-2024-04-15_r86425/bin/R CMD build --keep-empty-dirs --no-resave-data DELocal StartedAt: 2024-05-08 23:48:22 -0000 (Wed, 08 May 2024) EndedAt: 2024-05-08 23:50:10 -0000 (Wed, 08 May 2024) EllapsedTime: 108.1 seconds RetCode: 0 Status: OK PackageFile: DELocal_1.4.0.tar.gz PackageFileSize: 2.318 MiB