Package: DELocal Version: 1.4.0 Command: /home/biocbuild/R/R-beta-2024-04-15_r86425/bin/R CMD check --install=check:DELocal.install-out.txt --library=/home/biocbuild/R/R-beta-2024-04-15_r86425/site-library --no-vignettes --timings DELocal_1.4.0.tar.gz StartedAt: 2024-05-09 06:40:03 -0000 (Thu, 09 May 2024) EndedAt: 2024-05-09 06:43:54 -0000 (Thu, 09 May 2024) EllapsedTime: 231.4 seconds RetCode: 0 Status: OK CheckDir: DELocal.Rcheck Warnings: 0