Package: DELocal Version: 1.4.0 Command: rm -rf DELocal.buildbin-libdir && mkdir DELocal.buildbin-libdir && F:\biocbuild\bbs-3.19-bioc\R\bin\R.exe CMD INSTALL --build --library=DELocal.buildbin-libdir DELocal_1.4.0.tar.gz StartedAt: 2024-06-27 08:06:09 -0400 (Thu, 27 Jun 2024) EndedAt: 2024-06-27 08:06:49 -0400 (Thu, 27 Jun 2024) EllapsedTime: 40.7 seconds RetCode: 0 Status: OK PackageFile: DELocal_1.4.0.zip PackageFileSize: 2.33 MiB