Package: DELocal Version: 1.4.0 Command: rm -rf DELocal.buildbin-libdir && mkdir DELocal.buildbin-libdir && E:\biocbuild\bbs-3.19-bioc\R\bin\R.exe CMD INSTALL --build --library=DELocal.buildbin-libdir DELocal_1.4.0.tar.gz StartedAt: 2024-10-17 07:40:14 -0400 (Thu, 17 Oct 2024) EndedAt: 2024-10-17 07:40:46 -0400 (Thu, 17 Oct 2024) EllapsedTime: 31.7 seconds RetCode: 0 Status: OK PackageFile: DELocal_1.4.0.zip PackageFileSize: 2.33 MiB