Package: DEWSeq Version: 1.18.0 Command: /Library/Frameworks/R.framework/Resources/bin/R CMD check --install=check:DEWSeq.install-out.txt --library=/Library/Frameworks/R.framework/Resources/library --no-vignettes --timings DEWSeq_1.18.0.tar.gz StartedAt: 2024-06-09 19:58:45 -0400 (Sun, 09 Jun 2024) EndedAt: 2024-06-09 20:03:23 -0400 (Sun, 09 Jun 2024) EllapsedTime: 278.2 seconds RetCode: 0 Status: OK CheckDir: DEWSeq.Rcheck Warnings: 0