Package: DEWSeq Version: 1.18.0 Command: rm -rf DEWSeq.buildbin-libdir && mkdir DEWSeq.buildbin-libdir && /Users/biocbuild/BBS/utils/build-universal.sh DEWSeq_1.18.0.tar.gz /Library/Frameworks/R.framework/Resources/bin/R DEWSeq.buildbin-libdir StartedAt: 2024-10-17 16:01:24 -0400 (Thu, 17 Oct 2024) EndedAt: 2024-10-17 16:02:29 -0400 (Thu, 17 Oct 2024) EllapsedTime: 64.8 seconds RetCode: 0 Status: OK PackageFile: DEWSeq_1.18.0.tgz PackageFileSize: 2.939 MiB