Package: DEWSeq Version: 1.18.0 Command: rm -rf DEWSeq.buildbin-libdir && mkdir DEWSeq.buildbin-libdir && E:\biocbuild\bbs-3.19-bioc\R\bin\R.exe CMD INSTALL --build --library=DEWSeq.buildbin-libdir DEWSeq_1.18.0.tar.gz StartedAt: 2024-10-17 07:41:14 -0400 (Thu, 17 Oct 2024) EndedAt: 2024-10-17 07:41:44 -0400 (Thu, 17 Oct 2024) EllapsedTime: 29.3 seconds RetCode: 0 Status: OK PackageFile: DEWSeq_1.18.0.zip PackageFileSize: 2.52 MiB