Package: DEqMS Version: 1.22.0 Maintainer: Yafeng Zhu MaintainerEmail: yafeng.zhu at outlook.com git_url: https://git.bioconductor.org/packages/DEqMS git_branch: RELEASE_3_19 git_last_commit: bc76680 git_last_commit_date: 2024-04-30 11:09:03 -0400 (Tue, 30 Apr 2024)