Package: DEqMS Version: 1.22.0 Command: rm -rf DEqMS.buildbin-libdir && mkdir DEqMS.buildbin-libdir && /Users/biocbuild/BBS/utils/build-universal.sh DEqMS_1.22.0.tar.gz /Library/Frameworks/R.framework/Resources/bin/R DEqMS.buildbin-libdir StartedAt: 2024-10-18 18:09:54 -0400 (Fri, 18 Oct 2024) EndedAt: 2024-10-18 18:10:03 -0400 (Fri, 18 Oct 2024) EllapsedTime: 8.9 seconds RetCode: 0 Status: OK PackageFile: DEqMS_1.22.0.tgz PackageFileSize: 2.245 MiB