Package: DEqMS Version: 1.22.0 Command: /Library/Frameworks/R.framework/Resources/bin/R CMD build --keep-empty-dirs --no-resave-data DEqMS StartedAt: 2024-10-16 23:07:57 -0400 (Wed, 16 Oct 2024) EndedAt: 2024-10-16 23:08:56 -0400 (Wed, 16 Oct 2024) EllapsedTime: 59.2 seconds RetCode: 0 Status: OK PackageFile: DEqMS_1.22.0.tar.gz PackageFileSize: 2.304 MiB