Package: DEqMS Version: 1.22.0 Command: rm -rf DEqMS.buildbin-libdir && mkdir DEqMS.buildbin-libdir && /Users/biocbuild/BBS/utils/build-universal.sh DEqMS_1.22.0.tar.gz /Library/Frameworks/R.framework/Resources/bin/R DEqMS.buildbin-libdir StartedAt: 2024-06-11 10:55:09 -0400 (Tue, 11 Jun 2024) EndedAt: 2024-06-11 10:55:21 -0400 (Tue, 11 Jun 2024) EllapsedTime: 11.9 seconds RetCode: 0 Status: OK PackageFile: DEqMS_1.22.0.tgz PackageFileSize: 2.246 MiB