############################################################################## ############################################################################## ### ### Running command: ### ### /Library/Frameworks/R.framework/Resources/bin/R CMD check --install=check:DEqMS.install-out.txt --library=/Library/Frameworks/R.framework/Resources/library --no-vignettes --timings DEqMS_1.22.0.tar.gz ### ############################################################################## ############################################################################## * using log directory ‘/Users/biocbuild/bbs-3.19-bioc/meat/DEqMS.Rcheck’ * using R version 4.4.0 (2024-04-24) * using platform: aarch64-apple-darwin20 * R was compiled by Apple clang version 14.0.0 (clang-1400.0.29.202) GNU Fortran (GCC) 12.2.0 * running under: macOS Ventura 13.6.5 * using session charset: UTF-8 * using option ‘--no-vignettes’ * checking for file ‘DEqMS/DESCRIPTION’ ... OK * this is package ‘DEqMS’ version ‘1.22.0’ * checking package namespace information ... OK * checking package dependencies ... OK * checking if this is a source package ... OK * checking if there is a namespace ... OK * checking for hidden files and directories ... OK * checking for portable file names ... OK * checking for sufficient/correct file permissions ... OK * checking whether package ‘DEqMS’ can be installed ... OK * checking installed package size ... OK * checking package directory ... OK * checking ‘build’ directory ... OK * checking DESCRIPTION meta-information ... NOTE Malformed Title field: should not end in a period. * checking top-level files ... OK * checking for left-over files ... OK * checking index information ... OK * checking package subdirectories ... OK * checking code files for non-ASCII characters ... OK * checking R files for syntax errors ... OK * checking whether the package can be loaded ... OK * checking whether the package can be loaded with stated dependencies ... OK * checking whether the package can be unloaded cleanly ... OK * checking whether the namespace can be loaded with stated dependencies ... OK * checking whether the namespace can be unloaded cleanly ... OK * checking dependencies in R code ... NOTE Package in Depends field not imported from: ‘matrixStats’ These packages need to be imported from (in the NAMESPACE file) for when this namespace is loaded but not attached. * checking S3 generic/method consistency ... OK * checking replacement functions ... OK * checking foreign function calls ... OK * checking R code for possible problems ... NOTE Residualplot: no visible global function definition for ‘fitted’ Residualplot: no visible global function definition for ‘residuals’ VarianceScatterplot: no visible global function definition for ‘fitted’ peptideProfilePlot: no visible binding for global variable ‘variable’ peptideProfilePlot: no visible binding for global variable ‘value’ peptideProfilePlot: no visible binding for global variable ‘PSM_id’ peptideProfilePlot: no visible binding for global variable ‘Peptide’ spectraCounteBayes: no visible global function definition for ‘fitted’ Undefined global functions or variables: PSM_id Peptide fitted residuals value variable Consider adding importFrom("stats", "fitted", "residuals") to your NAMESPACE file. * checking Rd files ... OK * checking Rd metadata ... OK * checking Rd cross-references ... OK * checking for missing documentation entries ... OK * checking for code/documentation mismatches ... OK * checking Rd \usage sections ... OK * checking Rd contents ... OK * checking for unstated dependencies in examples ... OK * checking files in ‘vignettes’ ... OK * checking examples ... OK Examples with CPU (user + system) or elapsed time > 5s user system elapsed medpolishSummary 72.633 0.833 111.508 farmsSummary 27.052 1.065 41.307 Residualplot 16.319 1.191 26.380 VarianceBoxplot 7.734 0.294 12.278 outputResult 7.302 0.276 12.013 spectraCounteBayes 7.227 0.263 11.601 VarianceScatterplot 7.189 0.292 9.553 equalMedianNormalization 6.783 0.294 10.291 medianSummary 6.331 0.284 10.364 medianSweeping 6.228 0.287 10.010 peptideProfilePlot 3.736 0.233 6.406 * checking for unstated dependencies in vignettes ... OK * checking package vignettes ... OK * checking running R code from vignettes ... SKIPPED * checking re-building of vignette outputs ... SKIPPED * checking PDF version of manual ... OK * DONE Status: 3 NOTEs See ‘/Users/biocbuild/bbs-3.19-bioc/meat/DEqMS.Rcheck/00check.log’ for details.