Package: DEqMS Version: 1.22.0 Command: /Library/Frameworks/R.framework/Resources/bin/R CMD check --install=check:DEqMS.install-out.txt --library=/Library/Frameworks/R.framework/Resources/library --no-vignettes --timings DEqMS_1.22.0.tar.gz StartedAt: 2024-06-10 13:31:35 -0400 (Mon, 10 Jun 2024) EndedAt: 2024-06-10 13:37:23 -0400 (Mon, 10 Jun 2024) EllapsedTime: 348.2 seconds RetCode: 0 Status: OK CheckDir: DEqMS.Rcheck Warnings: 0