Package: DEqMS Version: 1.22.0 Command: /Library/Frameworks/R.framework/Resources/bin/R CMD build --keep-empty-dirs --no-resave-data DEqMS StartedAt: 2024-06-09 16:26:51 -0400 (Sun, 09 Jun 2024) EndedAt: 2024-06-09 16:28:35 -0400 (Sun, 09 Jun 2024) EllapsedTime: 103.2 seconds RetCode: 0 Status: OK PackageFile: DEqMS_1.22.0.tar.gz PackageFileSize: 2.304 MiB