Package: DEqMS Version: 1.22.0 Command: /Library/Frameworks/R.framework/Resources/bin/R CMD check --install=check:DEqMS.install-out.txt --library=/Library/Frameworks/R.framework/Resources/library --no-vignettes --timings DEqMS_1.22.0.tar.gz StartedAt: 2024-06-09 19:56:42 -0400 (Sun, 09 Jun 2024) EndedAt: 2024-06-09 20:00:19 -0400 (Sun, 09 Jun 2024) EllapsedTime: 216.5 seconds RetCode: 0 Status: OK CheckDir: DEqMS.Rcheck Warnings: 0