Package: DEqMS Version: 1.22.0 Command: rm -rf DEqMS.buildbin-libdir && mkdir DEqMS.buildbin-libdir && F:\biocbuild\bbs-3.19-bioc\R\bin\R.exe CMD INSTALL --build --library=DEqMS.buildbin-libdir DEqMS_1.22.0.tar.gz StartedAt: 2024-06-27 08:06:45 -0400 (Thu, 27 Jun 2024) EndedAt: 2024-06-27 08:07:00 -0400 (Thu, 27 Jun 2024) EllapsedTime: 14.5 seconds RetCode: 0 Status: OK PackageFile: DEqMS_1.22.0.zip PackageFileSize: 654.7 KiB