Package: DEqMS Version: 1.22.0 Command: chmod a+r DEqMS -R && E:\biocbuild\bbs-3.19-bioc\R\bin\R.exe CMD build --keep-empty-dirs --no-resave-data DEqMS StartedAt: 2024-10-16 18:39:23 -0400 (Wed, 16 Oct 2024) EndedAt: 2024-10-16 18:41:18 -0400 (Wed, 16 Oct 2024) EllapsedTime: 115.1 seconds RetCode: 0 Status: OK PackageFile: DEqMS_1.22.0.tar.gz PackageFileSize: 706.2 KiB