Package: DEqMS Version: 1.22.0 Command: E:\biocbuild\bbs-3.19-bioc\R\bin\R.exe CMD INSTALL DEqMS StartedAt: 2024-10-16 16:10:58 -0400 (Wed, 16 Oct 2024) EndedAt: 2024-10-16 16:11:07 -0400 (Wed, 16 Oct 2024) EllapsedTime: 8.9 seconds RetCode: 0 Status: OK