Package: DEsingle Version: 1.24.0 Command: /Library/Frameworks/R.framework/Resources/bin/R CMD build --keep-empty-dirs --no-resave-data DEsingle StartedAt: 2024-10-16 18:40:22 -0400 (Wed, 16 Oct 2024) EndedAt: 2024-10-16 18:40:55 -0400 (Wed, 16 Oct 2024) EllapsedTime: 32.9 seconds RetCode: 0 Status: OK PackageFile: DEsingle_1.24.0.tar.gz PackageFileSize: 379.9 KiB