Package: DEsingle Version: 1.24.0 Command: rm -rf DEsingle.buildbin-libdir && mkdir DEsingle.buildbin-libdir && F:\biocbuild\bbs-3.19-bioc\R\bin\R.exe CMD INSTALL --build --library=DEsingle.buildbin-libdir DEsingle_1.24.0.tar.gz StartedAt: 2024-06-27 08:06:57 -0400 (Thu, 27 Jun 2024) EndedAt: 2024-06-27 08:07:16 -0400 (Thu, 27 Jun 2024) EllapsedTime: 18.5 seconds RetCode: 0 Status: OK PackageFile: DEsingle_1.24.0.zip PackageFileSize: 398.1 KiB