Package: DEsingle Version: 1.24.0 Command: chmod a+r DEsingle -R && F:\biocbuild\bbs-3.19-bioc\R\bin\R.exe CMD build --keep-empty-dirs --no-resave-data DEsingle StartedAt: 2024-06-26 18:22:00 -0400 (Wed, 26 Jun 2024) EndedAt: 2024-06-26 18:22:22 -0400 (Wed, 26 Jun 2024) EllapsedTime: 21.4 seconds RetCode: 0 Status: OK PackageFile: DEsingle_1.24.0.tar.gz PackageFileSize: 379.9 KiB