Package: DEsubs Version: 1.30.0 Command: /home/biocbuild/bbs-3.19-bioc/R/bin/R CMD build --keep-empty-dirs --no-resave-data DEsubs StartedAt: 2024-10-16 18:11:58 -0400 (Wed, 16 Oct 2024) EndedAt: 2024-10-16 18:12:58 -0400 (Wed, 16 Oct 2024) EllapsedTime: 60.1 seconds RetCode: 0 Status: OK PackageFile: DEsubs_1.30.0.tar.gz PackageFileSize: 3.971 MiB