Package: DFP Version: 1.62.0 Command: /Library/Frameworks/R.framework/Resources/bin/R CMD build --keep-empty-dirs --no-resave-data DFP StartedAt: 2024-10-16 23:15:13 -0400 (Wed, 16 Oct 2024) EndedAt: 2024-10-16 23:15:27 -0400 (Wed, 16 Oct 2024) EllapsedTime: 13.8 seconds RetCode: 0 Status: OK PackageFile: DFP_1.62.0.tar.gz PackageFileSize: 496.8 KiB