Package: DFP Version: 1.62.0 Command: /Library/Frameworks/R.framework/Resources/bin/R CMD check --install=check:DFP.install-out.txt --library=/Library/Frameworks/R.framework/Resources/library --no-vignettes --timings DFP_1.62.0.tar.gz StartedAt: 2024-10-17 04:14:37 -0400 (Thu, 17 Oct 2024) EndedAt: 2024-10-17 04:16:05 -0400 (Thu, 17 Oct 2024) EllapsedTime: 88.0 seconds RetCode: 0 Status: OK CheckDir: DFP.Rcheck Warnings: 0