Package: DFP Version: 1.62.0 Command: rm -rf DFP.buildbin-libdir && mkdir DFP.buildbin-libdir && E:\biocbuild\bbs-3.19-bioc\R\bin\R.exe CMD INSTALL --build --library=DFP.buildbin-libdir DFP_1.62.0.tar.gz StartedAt: 2024-10-17 07:41:25 -0400 (Thu, 17 Oct 2024) EndedAt: 2024-10-17 07:41:36 -0400 (Thu, 17 Oct 2024) EllapsedTime: 11.1 seconds RetCode: 0 Status: OK PackageFile: DFP_1.62.0.zip PackageFileSize: 567.2 KiB