Package: DFP Version: 1.62.0 Command: chmod a+r DFP -R && E:\biocbuild\bbs-3.19-bioc\R\bin\R.exe CMD build --keep-empty-dirs --no-resave-data DFP StartedAt: 2024-10-16 18:41:50 -0400 (Wed, 16 Oct 2024) EndedAt: 2024-10-16 18:42:08 -0400 (Wed, 16 Oct 2024) EllapsedTime: 18.1 seconds RetCode: 0 Status: OK PackageFile: DFP_1.62.0.tar.gz PackageFileSize: 355.3 KiB