Package: DIAlignR Version: 2.12.0 Command: /Library/Frameworks/R.framework/Resources/bin/R CMD check --install=check:DIAlignR.install-out.txt --library=/Library/Frameworks/R.framework/Resources/library --no-vignettes --timings DIAlignR_2.12.0.tar.gz StartedAt: 2024-10-17 19:40:23 -0400 (Thu, 17 Oct 2024) EndedAt: 2024-10-17 19:43:44 -0400 (Thu, 17 Oct 2024) EllapsedTime: 201.4 seconds RetCode: 1 Status: ERROR CheckDir: DIAlignR.Rcheck Warnings: NA