Package: DIAlignR Version: 2.12.0 Command: rm -rf DIAlignR.buildbin-libdir && mkdir DIAlignR.buildbin-libdir && /Users/biocbuild/BBS/utils/build-universal.sh DIAlignR_2.12.0.tar.gz /Library/Frameworks/R.framework/Resources/bin/R DIAlignR.buildbin-libdir StartedAt: 2024-10-17 16:01:38 -0400 (Thu, 17 Oct 2024) EndedAt: 2024-10-17 16:04:09 -0400 (Thu, 17 Oct 2024) EllapsedTime: 151.1 seconds RetCode: 0 Status: OK PackageFile: DIAlignR_2.12.0.tgz PackageFileSize: 4.808 MiB