Package: DIAlignR Version: 2.12.0 Command: /home/biocbuild/bbs-3.19-bioc/R/bin/R CMD INSTALL DIAlignR StartedAt: 2024-10-16 16:11:38 -0400 (Wed, 16 Oct 2024) EndedAt: 2024-10-16 16:12:34 -0400 (Wed, 16 Oct 2024) EllapsedTime: 56.2 seconds RetCode: 0 Status: OK