Package: DIAlignR Version: 2.12.0 Command: rm -rf DIAlignR.buildbin-libdir && mkdir DIAlignR.buildbin-libdir && F:\biocbuild\bbs-3.19-bioc\R\bin\R.exe CMD INSTALL --build --library=DIAlignR.buildbin-libdir DIAlignR_2.12.0.tar.gz StartedAt: 2024-06-27 08:07:14 -0400 (Thu, 27 Jun 2024) EndedAt: 2024-06-27 08:08:56 -0400 (Thu, 27 Jun 2024) EllapsedTime: 102.5 seconds RetCode: 0 Status: OK PackageFile: DIAlignR_2.12.0.zip PackageFileSize: 4.786 MiB