Package: DMCHMM Version: 1.26.0 Command: /home/biocbuild/bbs-3.19-bioc/R/bin/R CMD INSTALL DMCHMM StartedAt: 2024-10-16 16:31:02 -0400 (Wed, 16 Oct 2024) EndedAt: 2024-10-16 16:31:34 -0400 (Wed, 16 Oct 2024) EllapsedTime: 32.4 seconds RetCode: 0 Status: OK