Package: DMRScan Version: 1.26.0 Command: /Library/Frameworks/R.framework/Resources/bin/R CMD INSTALL DMRScan StartedAt: 2024-10-16 15:53:06 -0400 (Wed, 16 Oct 2024) EndedAt: 2024-10-16 15:53:25 -0400 (Wed, 16 Oct 2024) EllapsedTime: 19.1 seconds RetCode: 0 Status: OK